BEGIN:VCALENDAR
VERSION:2.0
PRODID:-//Pikes Peak Permaculture - ECPv6.15.20//NONSGML v1.0//EN
CALSCALE:GREGORIAN
METHOD:PUBLISH
X-ORIGINAL-URL:https://pikespeakpermaculture.org
X-WR-CALDESC:Events for Pikes Peak Permaculture
REFRESH-INTERVAL;VALUE=DURATION:PT1H
X-Robots-Tag:noindex
X-PUBLISHED-TTL:PT1H
BEGIN:VTIMEZONE
TZID:America/Denver
BEGIN:DAYLIGHT
TZOFFSETFROM:-0700
TZOFFSETTO:-0600
TZNAME:MDT
DTSTART:20250309T090000
END:DAYLIGHT
BEGIN:STANDARD
TZOFFSETFROM:-0600
TZOFFSETTO:-0700
TZNAME:MST
DTSTART:20251102T080000
END:STANDARD
BEGIN:DAYLIGHT
TZOFFSETFROM:-0700
TZOFFSETTO:-0600
TZNAME:MDT
DTSTART:20260308T090000
END:DAYLIGHT
BEGIN:STANDARD
TZOFFSETFROM:-0600
TZOFFSETTO:-0700
TZNAME:MST
DTSTART:20261101T080000
END:STANDARD
BEGIN:DAYLIGHT
TZOFFSETFROM:-0700
TZOFFSETTO:-0600
TZNAME:MDT
DTSTART:20270314T090000
END:DAYLIGHT
BEGIN:STANDARD
TZOFFSETFROM:-0600
TZOFFSETTO:-0700
TZNAME:MST
DTSTART:20271107T080000
END:STANDARD
END:VTIMEZONE
BEGIN:VEVENT
DTSTART;TZID=America/Denver:20260503T090000
DTEND;TZID=America/Denver:20260503T160000
DTSTAMP:20260425T072607
CREATED:20260406T024725Z
LAST-MODIFIED:20260408T043636Z
UID:401-1777798800-1777824000@pikespeakpermaculture.org
SUMMARY:Tending points of light in the "long dark" with Carolyn Baker
DESCRIPTION:Join us as we work through the grief of our times\, bear witness to and accept the darkness we find ourselves in\, and attend to the inner work of the collapse of the world as we know it. \n  \n  \n  \n\n\n\n\n\n  \nIn preparation for this event\, please listen to this podcast with Francis Weller:\n“The Long Dark: How To Survive The End of The World”
URL:https://pikespeakpermaculture.org/event/tending-points-of-light-in-the-long-dark-with-carolyn-baker/
LOCATION:Red Crags\, 302 El Paso Blvd\, Manitou Springs\, CO\, 80829\, United States
END:VEVENT
END:VCALENDAR